BEGIN:VCALENDAR
VERSION:2.0
PRODID:-//Towanda Public Library - ECPv6.8.3//NONSGML v1.0//EN
CALSCALE:GREGORIAN
METHOD:PUBLISH
X-WR-CALNAME:Towanda Public Library
X-ORIGINAL-URL:https://towandapubliclibrary.org
X-WR-CALDESC:Events for Towanda Public Library
REFRESH-INTERVAL;VALUE=DURATION:PT1H
X-Robots-Tag:noindex
X-PUBLISHED-TTL:PT1H
BEGIN:VTIMEZONE
TZID:UTC
BEGIN:STANDARD
TZOFFSETFROM:+0000
TZOFFSETTO:+0000
TZNAME:UTC
DTSTART:20250101T000000
END:STANDARD
END:VTIMEZONE
BEGIN:VEVENT
DTSTART;TZID=UTC:20260415T130000
DTEND;TZID=UTC:20260415T140000
DTSTAMP:20260420T061539
CREATED:20230329T005459Z
LAST-MODIFIED:20240521T194250Z
UID:10000515-1776258000-1776261600@towandapubliclibrary.org
SUMMARY:Gather and Gab
DESCRIPTION:Puzzles\, games\, coloring books\, or bring your own craft. This is just a great time to get out of the house and socialize.
URL:https://towandapubliclibrary.org/event/gather-and-gab/2026-04-15/
END:VEVENT
BEGIN:VEVENT
DTSTART;TZID=UTC:20260408T130000
DTEND;TZID=UTC:20260408T140000
DTSTAMP:20260420T061539
CREATED:20230329T005459Z
LAST-MODIFIED:20240521T194250Z
UID:10000514-1775653200-1775656800@towandapubliclibrary.org
SUMMARY:Gather and Gab
DESCRIPTION:Puzzles\, games\, coloring books\, or bring your own craft. This is just a great time to get out of the house and socialize.
URL:https://towandapubliclibrary.org/event/gather-and-gab/2026-04-08/
END:VEVENT
BEGIN:VEVENT
DTSTART;TZID=UTC:20260401T130000
DTEND;TZID=UTC:20260401T140000
DTSTAMP:20260420T061539
CREATED:20230329T005459Z
LAST-MODIFIED:20240521T194250Z
UID:10000513-1775048400-1775052000@towandapubliclibrary.org
SUMMARY:Gather and Gab
DESCRIPTION:Puzzles\, games\, coloring books\, or bring your own craft. This is just a great time to get out of the house and socialize.
URL:https://towandapubliclibrary.org/event/gather-and-gab/2026-04-01/
END:VEVENT
BEGIN:VEVENT
DTSTART;TZID=UTC:20260325T130000
DTEND;TZID=UTC:20260325T140000
DTSTAMP:20260420T061539
CREATED:20230329T005459Z
LAST-MODIFIED:20240521T194250Z
UID:10000512-1774443600-1774447200@towandapubliclibrary.org
SUMMARY:Gather and Gab
DESCRIPTION:Puzzles\, games\, coloring books\, or bring your own craft. This is just a great time to get out of the house and socialize.
URL:https://towandapubliclibrary.org/event/gather-and-gab/2026-03-25/
END:VEVENT
BEGIN:VEVENT
DTSTART;TZID=UTC:20260318T130000
DTEND;TZID=UTC:20260318T140000
DTSTAMP:20260420T061539
CREATED:20230329T005459Z
LAST-MODIFIED:20240521T194250Z
UID:10000511-1773838800-1773842400@towandapubliclibrary.org
SUMMARY:Gather and Gab
DESCRIPTION:Puzzles\, games\, coloring books\, or bring your own craft. This is just a great time to get out of the house and socialize.
URL:https://towandapubliclibrary.org/event/gather-and-gab/2026-03-18/
END:VEVENT
BEGIN:VEVENT
DTSTART;TZID=UTC:20260311T130000
DTEND;TZID=UTC:20260311T140000
DTSTAMP:20260420T061539
CREATED:20230329T005459Z
LAST-MODIFIED:20240521T194250Z
UID:10000510-1773234000-1773237600@towandapubliclibrary.org
SUMMARY:Gather and Gab
DESCRIPTION:Puzzles\, games\, coloring books\, or bring your own craft. This is just a great time to get out of the house and socialize.
URL:https://towandapubliclibrary.org/event/gather-and-gab/2026-03-11/
END:VEVENT
BEGIN:VEVENT
DTSTART;TZID=UTC:20260304T130000
DTEND;TZID=UTC:20260304T140000
DTSTAMP:20260420T061539
CREATED:20230329T005459Z
LAST-MODIFIED:20240521T194250Z
UID:10000509-1772629200-1772632800@towandapubliclibrary.org
SUMMARY:Gather and Gab
DESCRIPTION:Puzzles\, games\, coloring books\, or bring your own craft. This is just a great time to get out of the house and socialize.
URL:https://towandapubliclibrary.org/event/gather-and-gab/2026-03-04/
END:VEVENT
BEGIN:VEVENT
DTSTART;TZID=UTC:20260225T130000
DTEND;TZID=UTC:20260225T140000
DTSTAMP:20260420T061539
CREATED:20230329T005459Z
LAST-MODIFIED:20240521T194250Z
UID:10000508-1772024400-1772028000@towandapubliclibrary.org
SUMMARY:Gather and Gab
DESCRIPTION:Puzzles\, games\, coloring books\, or bring your own craft. This is just a great time to get out of the house and socialize.
URL:https://towandapubliclibrary.org/event/gather-and-gab/2026-02-25/
END:VEVENT
BEGIN:VEVENT
DTSTART;TZID=UTC:20260218T130000
DTEND;TZID=UTC:20260218T140000
DTSTAMP:20260420T061539
CREATED:20230329T005459Z
LAST-MODIFIED:20240521T194250Z
UID:10000507-1771419600-1771423200@towandapubliclibrary.org
SUMMARY:Gather and Gab
DESCRIPTION:Puzzles\, games\, coloring books\, or bring your own craft. This is just a great time to get out of the house and socialize.
URL:https://towandapubliclibrary.org/event/gather-and-gab/2026-02-18/
END:VEVENT
BEGIN:VEVENT
DTSTART;TZID=UTC:20260211T130000
DTEND;TZID=UTC:20260211T140000
DTSTAMP:20260420T061539
CREATED:20230329T005459Z
LAST-MODIFIED:20240521T194250Z
UID:10000506-1770814800-1770818400@towandapubliclibrary.org
SUMMARY:Gather and Gab
DESCRIPTION:Puzzles\, games\, coloring books\, or bring your own craft. This is just a great time to get out of the house and socialize.
URL:https://towandapubliclibrary.org/event/gather-and-gab/2026-02-11/
END:VEVENT
BEGIN:VEVENT
DTSTART;TZID=UTC:20260204T130000
DTEND;TZID=UTC:20260204T140000
DTSTAMP:20260420T061539
CREATED:20230329T005459Z
LAST-MODIFIED:20240521T194250Z
UID:10000505-1770210000-1770213600@towandapubliclibrary.org
SUMMARY:Gather and Gab
DESCRIPTION:Puzzles\, games\, coloring books\, or bring your own craft. This is just a great time to get out of the house and socialize.
URL:https://towandapubliclibrary.org/event/gather-and-gab/2026-02-04/
END:VEVENT
BEGIN:VEVENT
DTSTART;TZID=UTC:20260128T130000
DTEND;TZID=UTC:20260128T140000
DTSTAMP:20260420T061539
CREATED:20230329T005459Z
LAST-MODIFIED:20240521T194250Z
UID:10000504-1769605200-1769608800@towandapubliclibrary.org
SUMMARY:Gather and Gab
DESCRIPTION:Puzzles\, games\, coloring books\, or bring your own craft. This is just a great time to get out of the house and socialize.
URL:https://towandapubliclibrary.org/event/gather-and-gab/2026-01-28/
END:VEVENT
BEGIN:VEVENT
DTSTART;TZID=UTC:20260121T130000
DTEND;TZID=UTC:20260121T140000
DTSTAMP:20260420T061539
CREATED:20230329T005459Z
LAST-MODIFIED:20240521T194250Z
UID:10000503-1769000400-1769004000@towandapubliclibrary.org
SUMMARY:Gather and Gab
DESCRIPTION:Puzzles\, games\, coloring books\, or bring your own craft. This is just a great time to get out of the house and socialize.
URL:https://towandapubliclibrary.org/event/gather-and-gab/2026-01-21/
END:VEVENT
BEGIN:VEVENT
DTSTART;TZID=UTC:20260114T130000
DTEND;TZID=UTC:20260114T140000
DTSTAMP:20260420T061539
CREATED:20230329T005459Z
LAST-MODIFIED:20240521T194250Z
UID:10000502-1768395600-1768399200@towandapubliclibrary.org
SUMMARY:Gather and Gab
DESCRIPTION:Puzzles\, games\, coloring books\, or bring your own craft. This is just a great time to get out of the house and socialize.
URL:https://towandapubliclibrary.org/event/gather-and-gab/2026-01-14/
END:VEVENT
BEGIN:VEVENT
DTSTART;TZID=UTC:20260107T130000
DTEND;TZID=UTC:20260107T140000
DTSTAMP:20260420T061539
CREATED:20230329T005459Z
LAST-MODIFIED:20240521T194250Z
UID:10000501-1767790800-1767794400@towandapubliclibrary.org
SUMMARY:Gather and Gab
DESCRIPTION:Puzzles\, games\, coloring books\, or bring your own craft. This is just a great time to get out of the house and socialize.
URL:https://towandapubliclibrary.org/event/gather-and-gab/2026-01-07/
END:VEVENT
BEGIN:VEVENT
DTSTART;TZID=UTC:20251231T130000
DTEND;TZID=UTC:20251231T140000
DTSTAMP:20260420T061539
CREATED:20230329T005459Z
LAST-MODIFIED:20240521T194250Z
UID:10000500-1767186000-1767189600@towandapubliclibrary.org
SUMMARY:Gather and Gab
DESCRIPTION:Puzzles\, games\, coloring books\, or bring your own craft. This is just a great time to get out of the house and socialize.
URL:https://towandapubliclibrary.org/event/gather-and-gab/2025-12-31/
END:VEVENT
BEGIN:VEVENT
DTSTART;TZID=UTC:20251224T130000
DTEND;TZID=UTC:20251224T140000
DTSTAMP:20260420T061539
CREATED:20230329T005459Z
LAST-MODIFIED:20240521T194250Z
UID:10000499-1766581200-1766584800@towandapubliclibrary.org
SUMMARY:Gather and Gab
DESCRIPTION:Puzzles\, games\, coloring books\, or bring your own craft. This is just a great time to get out of the house and socialize.
URL:https://towandapubliclibrary.org/event/gather-and-gab/2025-12-24/
END:VEVENT
BEGIN:VEVENT
DTSTART;TZID=UTC:20251217T130000
DTEND;TZID=UTC:20251217T140000
DTSTAMP:20260420T061539
CREATED:20230329T005459Z
LAST-MODIFIED:20240521T194250Z
UID:10000498-1765976400-1765980000@towandapubliclibrary.org
SUMMARY:Gather and Gab
DESCRIPTION:Puzzles\, games\, coloring books\, or bring your own craft. This is just a great time to get out of the house and socialize.
URL:https://towandapubliclibrary.org/event/gather-and-gab/2025-12-17/
END:VEVENT
BEGIN:VEVENT
DTSTART;TZID=UTC:20251210T130000
DTEND;TZID=UTC:20251210T140000
DTSTAMP:20260420T061539
CREATED:20230329T005459Z
LAST-MODIFIED:20240521T194250Z
UID:10000497-1765371600-1765375200@towandapubliclibrary.org
SUMMARY:Gather and Gab
DESCRIPTION:Puzzles\, games\, coloring books\, or bring your own craft. This is just a great time to get out of the house and socialize.
URL:https://towandapubliclibrary.org/event/gather-and-gab/2025-12-10/
END:VEVENT
BEGIN:VEVENT
DTSTART;TZID=UTC:20251203T130000
DTEND;TZID=UTC:20251203T140000
DTSTAMP:20260420T061539
CREATED:20230329T005459Z
LAST-MODIFIED:20240521T194250Z
UID:10000496-1764766800-1764770400@towandapubliclibrary.org
SUMMARY:Gather and Gab
DESCRIPTION:Puzzles\, games\, coloring books\, or bring your own craft. This is just a great time to get out of the house and socialize.
URL:https://towandapubliclibrary.org/event/gather-and-gab/2025-12-03/
END:VEVENT
BEGIN:VEVENT
DTSTART;TZID=UTC:20251126T130000
DTEND;TZID=UTC:20251126T140000
DTSTAMP:20260420T061539
CREATED:20230329T005459Z
LAST-MODIFIED:20240521T194250Z
UID:10000495-1764162000-1764165600@towandapubliclibrary.org
SUMMARY:Gather and Gab
DESCRIPTION:Puzzles\, games\, coloring books\, or bring your own craft. This is just a great time to get out of the house and socialize.
URL:https://towandapubliclibrary.org/event/gather-and-gab/2025-11-26/
END:VEVENT
BEGIN:VEVENT
DTSTART;TZID=UTC:20251119T130000
DTEND;TZID=UTC:20251119T140000
DTSTAMP:20260420T061539
CREATED:20230329T005459Z
LAST-MODIFIED:20240521T194250Z
UID:10000494-1763557200-1763560800@towandapubliclibrary.org
SUMMARY:Gather and Gab
DESCRIPTION:Puzzles\, games\, coloring books\, or bring your own craft. This is just a great time to get out of the house and socialize.
URL:https://towandapubliclibrary.org/event/gather-and-gab/2025-11-19/
END:VEVENT
BEGIN:VEVENT
DTSTART;TZID=UTC:20251112T130000
DTEND;TZID=UTC:20251112T140000
DTSTAMP:20260420T061539
CREATED:20230329T005459Z
LAST-MODIFIED:20240521T194250Z
UID:10000493-1762952400-1762956000@towandapubliclibrary.org
SUMMARY:Gather and Gab
DESCRIPTION:Puzzles\, games\, coloring books\, or bring your own craft. This is just a great time to get out of the house and socialize.
URL:https://towandapubliclibrary.org/event/gather-and-gab/2025-11-12/
END:VEVENT
BEGIN:VEVENT
DTSTART;TZID=UTC:20251105T130000
DTEND;TZID=UTC:20251105T140000
DTSTAMP:20260420T061539
CREATED:20230329T005459Z
LAST-MODIFIED:20240521T194250Z
UID:10000492-1762347600-1762351200@towandapubliclibrary.org
SUMMARY:Gather and Gab
DESCRIPTION:Puzzles\, games\, coloring books\, or bring your own craft. This is just a great time to get out of the house and socialize.
URL:https://towandapubliclibrary.org/event/gather-and-gab/2025-11-05/
END:VEVENT
BEGIN:VEVENT
DTSTART;TZID=UTC:20251029T130000
DTEND;TZID=UTC:20251029T140000
DTSTAMP:20260420T061539
CREATED:20230329T005459Z
LAST-MODIFIED:20240521T194250Z
UID:10000491-1761742800-1761746400@towandapubliclibrary.org
SUMMARY:Gather and Gab
DESCRIPTION:Puzzles\, games\, coloring books\, or bring your own craft. This is just a great time to get out of the house and socialize.
URL:https://towandapubliclibrary.org/event/gather-and-gab/2025-10-29/
END:VEVENT
BEGIN:VEVENT
DTSTART;TZID=UTC:20251022T130000
DTEND;TZID=UTC:20251022T140000
DTSTAMP:20260420T061539
CREATED:20230329T005459Z
LAST-MODIFIED:20240521T194250Z
UID:10000490-1761138000-1761141600@towandapubliclibrary.org
SUMMARY:Gather and Gab
DESCRIPTION:Puzzles\, games\, coloring books\, or bring your own craft. This is just a great time to get out of the house and socialize.
URL:https://towandapubliclibrary.org/event/gather-and-gab/2025-10-22/
END:VEVENT
BEGIN:VEVENT
DTSTART;TZID=UTC:20251015T130000
DTEND;TZID=UTC:20251015T140000
DTSTAMP:20260420T061539
CREATED:20230329T005459Z
LAST-MODIFIED:20240521T194250Z
UID:10000489-1760533200-1760536800@towandapubliclibrary.org
SUMMARY:Gather and Gab
DESCRIPTION:Puzzles\, games\, coloring books\, or bring your own craft. This is just a great time to get out of the house and socialize.
URL:https://towandapubliclibrary.org/event/gather-and-gab/2025-10-15/
END:VEVENT
BEGIN:VEVENT
DTSTART;TZID=UTC:20251008T130000
DTEND;TZID=UTC:20251008T140000
DTSTAMP:20260420T061539
CREATED:20230329T005459Z
LAST-MODIFIED:20240521T194250Z
UID:10000488-1759928400-1759932000@towandapubliclibrary.org
SUMMARY:Gather and Gab
DESCRIPTION:Puzzles\, games\, coloring books\, or bring your own craft. This is just a great time to get out of the house and socialize.
URL:https://towandapubliclibrary.org/event/gather-and-gab/2025-10-08/
END:VEVENT
BEGIN:VEVENT
DTSTART;TZID=UTC:20251001T130000
DTEND;TZID=UTC:20251001T140000
DTSTAMP:20260420T061539
CREATED:20230329T005459Z
LAST-MODIFIED:20240521T194250Z
UID:10000487-1759323600-1759327200@towandapubliclibrary.org
SUMMARY:Gather and Gab
DESCRIPTION:Puzzles\, games\, coloring books\, or bring your own craft. This is just a great time to get out of the house and socialize.
URL:https://towandapubliclibrary.org/event/gather-and-gab/2025-10-01/
END:VEVENT
BEGIN:VEVENT
DTSTART;TZID=UTC:20250924T130000
DTEND;TZID=UTC:20250924T140000
DTSTAMP:20260420T061539
CREATED:20230329T005459Z
LAST-MODIFIED:20240521T194250Z
UID:10000486-1758718800-1758722400@towandapubliclibrary.org
SUMMARY:Gather and Gab
DESCRIPTION:Puzzles\, games\, coloring books\, or bring your own craft. This is just a great time to get out of the house and socialize.
URL:https://towandapubliclibrary.org/event/gather-and-gab/2025-09-24/
END:VEVENT
END:VCALENDAR